BEGIN:VCALENDAR
VERSION:2.0
PRODID:-//Cliff Lane Friends - ECPv6.15.20//NONSGML v1.0//EN
CALSCALE:GREGORIAN
METHOD:PUBLISH
X-WR-CALNAME:Cliff Lane Friends
X-ORIGINAL-URL:https://clifflanefriends.com
X-WR-CALDESC:Events for Cliff Lane Friends
REFRESH-INTERVAL;VALUE=DURATION:PT1H
X-Robots-Tag:noindex
X-PUBLISHED-TTL:PT1H
BEGIN:VTIMEZONE
TZID:UTC
BEGIN:STANDARD
TZOFFSETFROM:+0000
TZOFFSETTO:+0000
TZNAME:UTC
DTSTART:20210101T000000
END:STANDARD
END:VTIMEZONE
BEGIN:VEVENT
DTSTART;TZID=UTC:20260326T151500
DTEND;TZID=UTC:20260326T163000
DTSTAMP:20260424T102816
CREATED:20260305T104736Z
LAST-MODIFIED:20260305T104736Z
UID:5102-1774538100-1774542600@clifflanefriends.com
SUMMARY:Easter Event 2026
DESCRIPTION:We are holding an Easter event in the playground on Thursday 26th March\, straight after school. \nPlease come along to support us – we will have games\, food and drink and a raffle. \nRaffle tickets will be sent out prior to the event so that we can get them all back in before the day. There will be some great prizes on offer including Easter hampers. \nAs always\, we will need volunteers for the event and you can sign up here to help out for just half an hour if you are able to. The more volunteers we have\, the more we can offer the children to do.
URL:https://clifflanefriends.com/event/easter-event-2026/
LOCATION:Cliff Lane Primary School\, Cliff Lane\, Ipswich\, Suffolk\, IP3 0PJ\, United Kingdom
CATEGORIES:Fundraising Event
ATTACH;FMTTYPE=image/jpeg:https://clifflanefriends.com/wp-content/uploads/2026/03/Easter-Event-2026.jpg
ORGANIZER;CN="Cliff Lane Friends":MAILTO:clifflanefriendspta@gmail.com
END:VEVENT
BEGIN:VEVENT
DTSTART;TZID=UTC:20251206T103000
DTEND;TZID=UTC:20251213T153000
DTSTAMP:20260424T102816
CREATED:20251006T094019Z
LAST-MODIFIED:20251008T202202Z
UID:4957-1765017000-1765639800@clifflanefriends.com
SUMMARY:Christmas Wreath Making Workshops 2025
DESCRIPTION:Back again for 2025\, we will be running 4 Christmas wreath making workshops where you can make your own wreath\, supervised by our own trained florist\, Lisa Overton. \nAll materials will be provided so you don’t need to bring anything but yourself unless you have anything special you wish to add to your wreath. You may want to bring along personal decorations – ribbon\, baubles\, feathers for example. You will need to bring secateurs if you have them and might want gloves for handling holly etc. \nRefreshments (tea/coffee and mince pies) will also be provided (or you can bring your own) so come and have a fun morning or afternoon making a wreath with friends (please note numbers are limited). \nThis event is open to anybody but sessions do get sold out so please book early. \nAll proceeds from this event go towards the Cliff Lane Friends charity. \nThe 2 sessions are 10.30am to 12.30pm and 1.30pm to 3.30pm on Saturday 6th December and Saturday 13th December. \nYou will need to book in advance and you can buy tickets via the shop. \n 
URL:https://clifflanefriends.com/event/christmas-wreath-making-workshops-2025/
LOCATION:St Luke’s Church Hall\, 78 Cliff Lane\, Ipswich\, Suffolk\, IP3 0PJ\, United Kingdom
CATEGORIES:Fundraising Event,Other
ATTACH;FMTTYPE=image/jpeg:https://clifflanefriends.com/wp-content/uploads/2025/10/Xmas-Wreath-Making-Workshops-25.jpg
ORGANIZER;CN="Cliff Lane Friends":MAILTO:clifflanefriendspta@gmail.com
END:VEVENT
BEGIN:VEVENT
DTSTART;TZID=UTC:20251205T151500
DTEND;TZID=UTC:20251205T170000
DTSTAMP:20260424T102816
CREATED:20251006T095019Z
LAST-MODIFIED:20251006T095019Z
UID:4961-1764947700-1764954000@clifflanefriends.com
SUMMARY:Christmas Event 2025
DESCRIPTION:This will be after school on Friday 5th December. 3.15pm to 5pm. More details to follow. \nPlease think about volunteering for a short while so that we can put on more games.
URL:https://clifflanefriends.com/event/christmas-event-2025/
LOCATION:Cliff Lane Primary School\, Cliff Lane\, Ipswich\, Suffolk\, IP3 0PJ\, United Kingdom
CATEGORIES:Fair,Fundraising Event
ATTACH;FMTTYPE=image/jpeg:https://clifflanefriends.com/wp-content/uploads/2025/10/Christmas-Fair-2025-A4.jpg
ORGANIZER;CN="Cliff Lane Friends":MAILTO:clifflanefriendspta@gmail.com
END:VEVENT
BEGIN:VEVENT
DTSTART;TZID=UTC:20250924T200000
DTEND;TZID=UTC:20250924T210000
DTSTAMP:20260424T102816
CREATED:20250717T091124Z
LAST-MODIFIED:20250717T091124Z
UID:4949-1758744000-1758747600@clifflanefriends.com
SUMMARY:CLF AGM 2025
DESCRIPTION:Please email us if you are interested in joining the committee. We are losing a number of our committee members this year so would love for more to join. You don’t have to be in a named role\, just join the meetings and help where you can (although we do need people in named roles as well!). \nEven if you don’t want to join the committee but just want to hear more about our fundraising and how we spent the money you helped us raise\, then please join our AGM. \nLocation to be decided (could be online or in person).
URL:https://clifflanefriends.com/event/clf-agm-2025/
LOCATION:Suffolk
CATEGORIES:Meeting
ATTACH;FMTTYPE=image/jpeg:https://clifflanefriends.com/wp-content/uploads/2025/07/CLF-AGM-we-need-you.jpg
ORGANIZER;CN="Cliff Lane Friends":MAILTO:clifflanefriendspta@gmail.com
END:VEVENT
BEGIN:VEVENT
DTSTART;TZID=UTC:20250705T120000
DTEND;TZID=UTC:20250705T160000
DTSTAMP:20260424T102816
CREATED:20250326T202600Z
LAST-MODIFIED:20250501T113853Z
UID:4787-1751716800-1751731200@clifflanefriends.com
SUMMARY:Summer Fair 2025
DESCRIPTION:We are going all out for a big Saturday summer fair this year! Let’s make it one to remember with lots of activities and fun. If you can help please let us know. If you know a group who can do a demo on the field for 20 or 30 minutes that would be great or if you have any other ideas then email us to let us know. \nTickets are £1.50 on the gate for adults (children free) or £1 in advance via this link: https://cliff-lane-friends.sumupstore.com/product/summer-fair-tickets-adults-children-free \nclifflanefriendspta@gmail.com
URL:https://clifflanefriends.com/event/summer-fair-2025/
LOCATION:Cliff Lane Primary School\, Cliff Lane\, Ipswich\, Suffolk\, IP3 0PJ\, United Kingdom
ATTACH;FMTTYPE=image/jpeg:https://clifflanefriends.com/wp-content/uploads/2025/03/CliffLaneFriends.com_.jpg
ORGANIZER;CN="Cliff Lane Friends":MAILTO:clifflanefriendspta@gmail.com
END:VEVENT
BEGIN:VEVENT
DTSTART;TZID=UTC:20250404T170000
DTEND;TZID=UTC:20250404T190000
DTSTAMP:20260424T102816
CREATED:20250214T095158Z
LAST-MODIFIED:20250320T092551Z
UID:4687-1743786000-1743793200@clifflanefriends.com
SUMMARY:Easter Eggstravaganza - Cancelled!
DESCRIPTION:Unfortunately we have taken the decision to cancel the Easter Eggstravaganza due to lack of volunteers coming forward (thank you if you did) and lack of ticket sales. \nWe will still be holding a chocolate tombola straight after school on Friday 4th April and would love your donations in the week leading up to this. \nThank you.
URL:https://clifflanefriends.com/event/easter-eggstravaganza/
LOCATION:Cliff Lane Primary School\, Cliff Lane\, Ipswich\, Suffolk\, IP3 0PJ\, United Kingdom
CATEGORIES:Fair,Fundraising Event
ATTACH;FMTTYPE=image/jpeg:https://clifflanefriends.com/wp-content/uploads/2025/02/Easter-Eggstravaganza-1.jpg
ORGANIZER;CN="Cliff Lane Friends":MAILTO:clifflanefriendspta@gmail.com
END:VEVENT
BEGIN:VEVENT
DTSTART;TZID=UTC:20241206T151500
DTEND;TZID=UTC:20241206T170000
DTSTAMP:20260424T102816
CREATED:20240912T170712Z
LAST-MODIFIED:20240912T170712Z
UID:4331-1733498100-1733504400@clifflanefriends.com
SUMMARY:Christmas Fair
DESCRIPTION:Our annual Christmas Fair will be held on a Friday after school again. We will update on whether it will be indoors or outdoors when we get a better idea of the weather.
URL:https://clifflanefriends.com/event/christmas-fair-2/
LOCATION:Cliff Lane Primary School\, Cliff Lane\, Ipswich\, Suffolk\, IP3 0PJ\, United Kingdom
ATTACH;FMTTYPE=image/jpeg:https://clifflanefriends.com/wp-content/uploads/2024/09/Christmas-Fair-24.jpg
ORGANIZER;CN="Cliff Lane Friends":MAILTO:clifflanefriendspta@gmail.com
END:VEVENT
BEGIN:VEVENT
DTSTART;TZID=UTC:20241130T103000
DTEND;TZID=UTC:20241207T153000
DTSTAMP:20260424T102816
CREATED:20231108T205453Z
LAST-MODIFIED:20241113T201316Z
UID:3864-1732962600-1733585400@clifflanefriends.com
SUMMARY:Christmas Wreath Making Workshops 2024
DESCRIPTION:After the success of last year\, we will be running 4 Christmas wreath making workshops where you can make your own wreath\, supervised by our own trained florist\, Lisa Overton. \nAll materials will be provided so you don’t need to bring anything but yourself unless you have anything special you wish to add to your wreath. You may want to bring along personal decorations – ribbon\, baubles\, feathers for example. You will need to bring secateurs if you have them and might want gloves for handling holly etc. \nRefreshments (tea/coffee and mince pies) will also be provided (or you can bring your own) so come and have a fun morning or afternoon making a wreath with friends (please note numbers are limited). \nThis event is open to anybody. \nThe 2 sessions are 10.30am to 12.30pm and 1.30pm to 3.30pm on Saturday 30th November and Saturday 7th December. \nYou will need to book in advance and you can do so by following this link: \nhttps://cliff-lane-friends.sumupstore.com/product/christmas-wreath-making-workshops-2024 \nUPDATE: 30TH NOVEMBER IS FULLY BOOKED AND THERE ARE LIMITED SPACES FOR 7TH DECCEMBER.
URL:https://clifflanefriends.com/event/wreath-making-workshops-2024/
LOCATION:St Luke’s Church Hall\, 78 Cliff Lane\, Ipswich\, Suffolk\, IP3 0PJ\, United Kingdom
CATEGORIES:Other
ATTACH;FMTTYPE=image/jpeg:https://clifflanefriends.com/wp-content/uploads/2023/11/Xmas-Wreath-Making-Workshops-1.jpg
ORGANIZER;CN="Cliff Lane Friends":MAILTO:clifflanefriendspta@gmail.com
END:VEVENT
BEGIN:VEVENT
DTSTART;TZID=UTC:20241025T180000
DTEND;TZID=UTC:20241025T200000
DTSTAMP:20260424T102816
CREATED:20240912T165734Z
LAST-MODIFIED:20240913T144617Z
UID:4328-1729879200-1729886400@clifflanefriends.com
SUMMARY:Halloween Trail
DESCRIPTION:We know you loved the Halloween trail that we ran on the school field a few years ago so we are doing it again in 2024. \nThere will be a spooky trail to follow\, some food and drink and also some games to play. \nAdded to that we will be having a pumpkin carving competition where you can bring in your carved pumpkins and we will light them up along the playground.
URL:https://clifflanefriends.com/event/halloween-trail/
LOCATION:Cliff Lane Primary School\, Cliff Lane\, Ipswich\, Suffolk\, IP3 0PJ\, United Kingdom
CATEGORIES:Fundraising Event
ATTACH;FMTTYPE=image/jpeg:https://clifflanefriends.com/wp-content/uploads/2024/09/2024-Halloween-1-1.jpg
ORGANIZER;CN="Cliff Lane Friends":MAILTO:clifflanefriendspta@gmail.com
END:VEVENT
BEGIN:VEVENT
DTSTART;TZID=UTC:20241002T200000
DTEND;TZID=UTC:20241002T210000
DTSTAMP:20260424T102816
CREATED:20240912T165244Z
LAST-MODIFIED:20240912T165244Z
UID:4325-1727899200-1727902800@clifflanefriends.com
SUMMARY:CLF AGM
DESCRIPTION:We need a quorum of members to attend the AGM in order for us to vote in the committee. Please attend if you can so that we can do this. Most\, if not all\, of the committee are standing again so you won’t be roped in (unless you want to of course!) \nThe AGM will be online and the link will be sent out in a newsletter\, published on our Facebook page and added on here.
URL:https://clifflanefriends.com/event/clf-agm/
LOCATION:Online
CATEGORIES:Meeting
ATTACH;FMTTYPE=image/jpeg:https://clifflanefriends.com/wp-content/uploads/2024/09/CLF-AGM-we-need-you.jpg
ORGANIZER;CN="Cliff Lane Friends":MAILTO:clifflanefriendspta@gmail.com
END:VEVENT
BEGIN:VEVENT
DTSTART;TZID=UTC:20240705T150000
DTEND;TZID=UTC:20240705T170000
DTSTAMP:20260424T102816
CREATED:20240607T085530Z
LAST-MODIFIED:20240607T085530Z
UID:4281-1720191600-1720198800@clifflanefriends.com
SUMMARY:2024 Summer Fair
DESCRIPTION:We will be having a small summer fair (as we are still not confident we will get enough volunteers for a Saturday event) from 3.15pm to 5pm on Friday 5th July. \nThere will be games\, tombola\, pizza\, ice cream and drinks as well as the usual raffle. \nHowever\, we do still need helpers for the event and you can sign up here to help: \n2024 Mini Summer Fair Sign Up – Parents/Carers \n2024 Mini Summer Fair Sign Up – Staff
URL:https://clifflanefriends.com/event/2024-summer-fair/
LOCATION:Cliff Lane Primary School\, Cliff Lane\, Ipswich\, Suffolk\, IP3 0PJ\, United Kingdom
CATEGORIES:Fair
ATTACH;FMTTYPE=image/jpeg:https://clifflanefriends.com/wp-content/uploads/2024/06/Summer-Fair-2024.jpg
ORGANIZER;CN="Cliff Lane Friends":MAILTO:clifflanefriendspta@gmail.com
END:VEVENT
BEGIN:VEVENT
DTSTART;TZID=UTC:20231208T151500
DTEND;TZID=UTC:20231208T170000
DTSTAMP:20260424T102816
CREATED:20231101T213516Z
LAST-MODIFIED:20231108T144252Z
UID:3843-1702048500-1702054800@clifflanefriends.com
SUMMARY:Christmas Fair 2023
DESCRIPTION:We will be having our Christmas Fair after school on Friday 8th December. Bring the family along to play games and check out all the things that the children have made. \nEach class has been given £20.23 to use to make things that they can sell at the fair (enterprise money).  This gives the children a chance to learn about business\, budgeting\, designing and many more things. They will each be selling their items in their year group classrooms so come and see what they have made. \nThere will also be games to play in the hall and food and drink in the canteen. We also hope to have some singing entertainment to get you in the Christmas spirit.
URL:https://clifflanefriends.com/event/christmas-fair/
LOCATION:Cliff Lane Primary School\, Cliff Lane\, Ipswich\, Suffolk\, IP3 0PJ\, United Kingdom
CATEGORIES:Fair
ATTACH;FMTTYPE=image/jpeg:https://clifflanefriends.com/wp-content/uploads/2023/11/Copy-of-Xmas-Fair-Board-Slip-2023-scaled.jpg
END:VEVENT
BEGIN:VEVENT
DTSTART;TZID=UTC:20231013T190000
DTEND;TZID=UTC:20231013T223000
DTSTAMP:20260424T102816
CREATED:20230714T083000Z
LAST-MODIFIED:20231007T125905Z
UID:3717-1697223600-1697236200@clifflanefriends.com
SUMMARY:Race Night - Postponed
DESCRIPTION:This event has been postponed.
URL:https://clifflanefriends.com/event/race-night/
LOCATION:St Luke’s Church Hall\, 78 Cliff Lane\, Ipswich\, Suffolk\, IP3 0PJ\, United Kingdom
CATEGORIES:Fundraising Event
ATTACH;FMTTYPE=image/jpeg:https://clifflanefriends.com/wp-content/uploads/2023/07/Race-Night-2.jpg
ORGANIZER;CN="Cliff Lane Friends":MAILTO:clifflanefriendspta@gmail.com
END:VEVENT
BEGIN:VEVENT
DTSTART;TZID=UTC:20230927T200000
DTEND;TZID=UTC:20230927T210000
DTSTAMP:20260424T102816
CREATED:20230908T075354Z
LAST-MODIFIED:20230908T075451Z
UID:3781-1695844800-1695848400@clifflanefriends.com
SUMMARY:2023 AGM
DESCRIPTION:Join us for our AGM – have your say\, see what we have done and what we have planned and join the committee if you would like to! \nThe meeting will be online and we will post the link when we have it.
URL:https://clifflanefriends.com/event/2023-agm/
LOCATION:Online
CATEGORIES:Meeting
ATTACH;FMTTYPE=image/jpeg:https://clifflanefriends.com/wp-content/uploads/2022/01/new-logo.jpg
ORGANIZER;CN="Cliff Lane Friends":MAILTO:clifflanefriendspta@gmail.com
END:VEVENT
BEGIN:VEVENT
DTSTART;VALUE=DATE:20230913
DTEND;VALUE=DATE:20230921
DTSTAMP:20260424T102816
CREATED:20230907T183229Z
LAST-MODIFIED:20230914T105855Z
UID:3775-1694563200-1695254399@clifflanefriends.com
SUMMARY:Wonka Bars
DESCRIPTION:We will be launching our Wonka Bar sale on Roald Dahl Day\, Wednesday 13th September. Order your chocolate bar between 13th and 20th September at £2 each for a large chocolate bar – once all of the orders are in we will wrap all of the Wonka Bars and randomly distribute the golden tickets. There will be at least 10 golden ticket winners with the top prize being a… \nFire HD 8 kids pro Tablet!\nYou can order as many chocolate bars as you like\, just get your orders in by the 20th. We will be in front of the school from 8.20am to 8.40am on 13th\, 14th\, 15th\, 18th\, 19th & 20th September to take your orders. Once we have all the orders we will get to wrapping the chocolate and let you know when they are available for collection! Collection will likely be week commencing 25th September but we will keep you posted. If you sign up for our newsletter (see the bottom of the page or via the pop up) then we will email when they are ready. \nIf you can’t make it to school to buy your chocolate vouchers then you can buy them here: https://cliff-lane-friends.sumupstore.com/product/wonka-bar. \nThe chocolate bars will be around 100g\, so the big bars. There may be a variety\, depending on what is available so it may be a bit of pot luck what you get. However\, there will not be any that have nuts specifically listed and if you would like a vegan option then please specify when you order your bars. Under the Wonka wrapper there will be a chocolate bar with ingredients listed. \nThe golden tickets will be under the Wonka wrapper so you will know immediately if you have won when you collect your bar.
URL:https://clifflanefriends.com/event/wonka-bars/
LOCATION:Cliff Lane Primary School\, Cliff Lane\, Ipswich\, Suffolk\, IP3 0PJ\, United Kingdom
CATEGORIES:Fundraising Event
ATTACH;FMTTYPE=image/jpeg:https://clifflanefriends.com/wp-content/uploads/2023/09/wonka-website.jpg
ORGANIZER;CN="Cliff Lane Friends":MAILTO:clifflanefriendspta@gmail.com
END:VEVENT
BEGIN:VEVENT
DTSTART;TZID=UTC:20230707T151500
DTEND;TZID=UTC:20230707T164500
DTSTAMP:20260424T102816
CREATED:20230617T094203Z
LAST-MODIFIED:20230617T094203Z
UID:3679-1688742900-1688748300@clifflanefriends.com
SUMMARY:Mini Summer Fair
DESCRIPTION:We are once again scaling down the fair due to lack of volunteers for the big Saturday event we had planned. We will now be doing a smaller event on the Friday but will still have fun and games and food and drink from 3.15pm to 4.45pm.
URL:https://clifflanefriends.com/event/mini-summer-fair/
LOCATION:Cliff Lane Primary School\, Cliff Lane\, Ipswich\, Suffolk\, IP3 0PJ\, United Kingdom
CATEGORIES:Fair
ATTACH;FMTTYPE=image/jpeg:https://clifflanefriends.com/wp-content/uploads/2023/06/Mini-Summer-Fair.jpg
ORGANIZER;CN="Cliff Lane Friends":MAILTO:clifflanefriendspta@gmail.com
END:VEVENT
BEGIN:VEVENT
DTSTART;TZID=UTC:20230330T151500
DTEND;TZID=UTC:20230330T164500
DTSTAMP:20260424T102816
CREATED:20230315T212954Z
LAST-MODIFIED:20230315T214555Z
UID:3413-1680189300-1680194700@clifflanefriends.com
SUMMARY:Easter Event
DESCRIPTION:We are having an Easter event in the school playground on Thursday 30th March. There will be food and drink (pizza and hot and cold drinks) as well as games and an Easter hunt around the playground. We will have the usual tombola and raffle as well. \nWe are asking for Easter egg donations from parents please – these can be brought into school on the mornings of Monday 20th and Tuesday 21st March. There will be a collection point in front of the office. \nWe would love to have some help at this event so that we can have all the games and activities for the children to take part in – these events can’t run without you 🙂 If you can sign up for a half hour slot or two that would be much appreciated! \nParent Volunteer Sheet \nStaff Volunteer Sheet \n 
URL:https://clifflanefriends.com/event/easter-event/
LOCATION:Cliff Lane Primary School\, Cliff Lane\, Ipswich\, Suffolk\, IP3 0PJ\, United Kingdom
CATEGORIES:Fair,Fundraising Event
ATTACH;FMTTYPE=image/jpeg:https://clifflanefriends.com/wp-content/uploads/2023/03/Easter-2023-Fb.jpg
ORGANIZER;CN="Cliff Lane Friends":MAILTO:clifflanefriendspta@gmail.com
END:VEVENT
BEGIN:VEVENT
DTSTART;TZID=UTC:20221208T151500
DTEND;TZID=UTC:20221208T161500
DTSTAMP:20260424T102816
CREATED:20221129T125958Z
LAST-MODIFIED:20221129T125958Z
UID:2970-1670512500-1670516100@clifflanefriends.com
SUMMARY:Christmas After School Event
DESCRIPTION:A smaller event instead of the Christmas Fair which we have had to cancel. There will be games as well as food and drinks. \nPlease sign up to help here.
URL:https://clifflanefriends.com/event/christmas-after-school-event/
LOCATION:Cliff Lane Primary School\, Cliff Lane\, Ipswich\, Suffolk\, IP3 0PJ\, United Kingdom
ATTACH;FMTTYPE=image/jpeg:https://clifflanefriends.com/wp-content/uploads/2022/11/Christmas-Event.jpg
ORGANIZER;CN="Cliff Lane Friends":MAILTO:clifflanefriendspta@gmail.com
END:VEVENT
BEGIN:VEVENT
DTSTART;TZID=UTC:20221203T110000
DTEND;TZID=UTC:20221203T140000
DTSTAMP:20260424T102816
CREATED:20220926T100952Z
LAST-MODIFIED:20221129T130337Z
UID:2633-1670065200-1670076000@clifflanefriends.com
SUMMARY:Christmas Fair 2022 - CANCELLED
DESCRIPTION:Unfortunately we have had to cancel our Christmas Fair due essentially to lack of support. It takes a lot to run the fair and we felt that we just didn’t have enough people to make it successful. \nHowever\, we are still having the raffle at 1.30pm on 3rd and thank everyone for their donations.
URL:https://clifflanefriends.com/event/christmas-fair-2022/
LOCATION:Cliff Lane Primary School\, Cliff Lane\, Ipswich\, Suffolk\, IP3 0PJ\, United Kingdom
CATEGORIES:Fair
ATTACH;FMTTYPE=image/jpeg:https://clifflanefriends.com/wp-content/uploads/2022/09/Christmas-Fair-1.jpg
ORGANIZER;CN="Cliff Lane Friends":MAILTO:clifflanefriendspta@gmail.com
END:VEVENT
BEGIN:VEVENT
DTSTART;TZID=UTC:20221101T200000
DTEND;TZID=UTC:20221101T210000
DTSTAMP:20260424T102816
CREATED:20220926T101312Z
LAST-MODIFIED:20220926T101312Z
UID:2636-1667332800-1667336400@clifflanefriends.com
SUMMARY:2022 AGM
DESCRIPTION:All welcome. Link TBC.
URL:https://clifflanefriends.com/event/2022-agm/
LOCATION:Online
CATEGORIES:Meeting
ATTACH;FMTTYPE=image/jpeg:https://clifflanefriends.com/wp-content/uploads/2022/01/new-logo.jpg
ORGANIZER;CN="Cliff Lane Friends":MAILTO:clifflanefriendspta@gmail.com
END:VEVENT
BEGIN:VEVENT
DTSTART;TZID=UTC:20220709T120000
DTEND;TZID=UTC:20220709T150000
DTSTAMP:20260424T102816
CREATED:20220502T190217Z
LAST-MODIFIED:20220708T151351Z
UID:1595-1657368000-1657378800@clifflanefriends.com
SUMMARY:Summer Fair
DESCRIPTION:Our summer fair will take place on Saturday 9th July 2022 at the school from midday until 3pm.\nIt’s set to be a lovely day so come and join in the fun and games. There will also be a barbeque with hot and cold drinks\, plus ice creams.
URL:https://clifflanefriends.com/event/summer-fair/
LOCATION:Cliff Lane Primary School\, Cliff Lane\, Ipswich\, Suffolk\, IP3 0PJ\, United Kingdom
CATEGORIES:Fair
ATTACH;FMTTYPE=image/jpeg:https://clifflanefriends.com/wp-content/uploads/2022/05/clf-summer-fair.jpg
ORGANIZER;CN="Cliff Lane Friends":MAILTO:clifflanefriendspta@gmail.com
END:VEVENT
BEGIN:VEVENT
DTSTART;VALUE=DATE:20220605
DTEND;VALUE=DATE:20220606
DTSTAMP:20260424T102816
CREATED:20220513T215731Z
LAST-MODIFIED:20220513T215731Z
UID:1630-1654387200-1654473599@clifflanefriends.com
SUMMARY:Jubilee Street Party
DESCRIPTION:Join us for the Cliff Lane street party and if you can spare a half hour to help that would be amazing. Sign up to help here!
URL:https://clifflanefriends.com/event/jubilee-street-party/
LOCATION:Cliff Lane\, Cliff Lane\, Ipswich\, Suffolk\, United Kingdom
CATEGORIES:Other
ATTACH;FMTTYPE=image/jpeg:https://clifflanefriends.com/wp-content/uploads/2022/05/jubilee-street-party.jpg
END:VEVENT
BEGIN:VEVENT
DTSTART;TZID=UTC:20220428T170000
DTEND;TZID=UTC:20220428T190000
DTSTAMP:20260424T102816
CREATED:20220426T084310Z
LAST-MODIFIED:20220426T084310Z
UID:1578-1651165200-1651172400@clifflanefriends.com
SUMMARY:Easter Fair
DESCRIPTION:Come along to our Easter Fair with fun and games and food and drink. There will be a trail for the children as well. \nEntry 50p.
URL:https://clifflanefriends.com/event/easter-fair/
LOCATION:Cliff Lane Primary School\, Cliff Lane\, Ipswich\, Suffolk\, IP3 0PJ\, United Kingdom
CATEGORIES:Fundraising Event
ATTACH;FMTTYPE=image/jpeg:https://clifflanefriends.com/wp-content/uploads/2022/04/Easter-Trail-Ticket-001.jpg
ORGANIZER;CN="Cliff Lane Friends":MAILTO:clifflanefriendspta@gmail.com
END:VEVENT
BEGIN:VEVENT
DTSTART;TZID=UTC:20220218T150000
DTEND;TZID=UTC:20220219T160000
DTSTAMP:20260424T102816
CREATED:20220209T184827Z
LAST-MODIFIED:20220209T185243Z
UID:1175-1645196400-1645286400@clifflanefriends.com
SUMMARY:Art on a Postcard Preview
DESCRIPTION:Come and join us for a look at all of the postcards that will be in the online auction as well as all of the other postcards created by the children at the school – altogether there will be around 400 postcards! \nThe children’s postcards that have not been selected for the auction will be available for sale for £2 each. You can buy the postcards at the preview event and collect them at a later date once the preview is over (as we want everyone to see them in all of their glory throughout the preview event!). \nWe will have on display the 80+ postcards from artists and celebrities that you can take a look at and start your bidding on. It is great to see all of the fantastic postcards ‘in the flesh’ so that you can see what you might be buying. \nThe exhibition will be opened by the Mayor of Ipswich!
URL:https://clifflanefriends.com/event/art-on-a-postcard-preview/
LOCATION:The Orangery\, Holywells Park\, Cliff Lane\, Ipswich\, Suffolk\, IP3 0PG\, United Kingdom
CATEGORIES:Fundraising Event
ATTACH;FMTTYPE=image/jpeg:https://clifflanefriends.com/wp-content/uploads/2022/01/Postcard-Auction-Square-4.jpg
ORGANIZER;CN="Cliff Lane Friends":MAILTO:clifflanefriendspta@gmail.com
END:VEVENT
BEGIN:VEVENT
DTSTART;TZID=UTC:20220218T080000
DTEND;TZID=UTC:20220304T220000
DTSTAMP:20260424T102816
CREATED:20220209T185829Z
LAST-MODIFIED:20220209T185829Z
UID:1183-1645171200-1646431200@clifflanefriends.com
SUMMARY:Art on a Postcard - Online Auction
DESCRIPTION:We have an amazing array of artwork for sale by auction between 18th February and 4th March. Many talented artists have kindly donated artworks for the auction and there is undoubtedly something for everyone. \nWe are very grateful in particular to Maggi Hambling\, Axel Scheffler\, Jimmy Doherty and Alex Horne for donating cards and we expect those to generate a lot of interest! \nWe really need to raise funds to replace the old playground equipment for the children and the money raised from this auction will go towards that.
URL:https://clifflanefriends.com/event/art-on-a-postcard-online-auction/
LOCATION:Suffolk
CATEGORIES:Fundraising Event
ATTACH;FMTTYPE=image/jpeg:https://clifflanefriends.com/wp-content/uploads/2022/01/Postcard-Auction-Square-4.jpg
ORGANIZER;CN="Cliff Lane Friends":MAILTO:clifflanefriendspta@gmail.com
END:VEVENT
END:VCALENDAR